BEGIN:VCALENDAR
VERSION:2.0
PRODID:-//United Pentecostal Church Lynbrook - ECPv4.9.14//NONSGML v1.0//EN
CALSCALE:GREGORIAN
METHOD:PUBLISH
X-WR-CALNAME:United Pentecostal Church Lynbrook
X-ORIGINAL-URL:http://upclynbrook.com.au
X-WR-CALDESC:Events for United Pentecostal Church Lynbrook
BEGIN:VTIMEZONE
TZID:UTC
BEGIN:STANDARD
TZOFFSETFROM:+0000
TZOFFSETTO:+0000
TZNAME:UTC
DTSTART:20190101T000000
END:STANDARD
END:VTIMEZONE
BEGIN:VEVENT
DTSTART;TZID=UTC:20191222T100000
DTEND;TZID=UTC:20191222T130000
DTSTAMP:20210301T001934
CREATED:20191014T083939Z
LAST-MODIFIED:20191014T083940Z
UID:5205-1577008800-1577019600@upclynbrook.com.au
SUMMARY:Christmas Service
DESCRIPTION:As we celebrate Father’s Day you are invited to join us as we relaunch our new service schedule.  \n
URL:http://upclynbrook.com.au/index.php/event/start-a-new-way-of-living-2-5-2-2-2-3/
LOCATION:Lynbrook\, 195 Hallam Road\, Lynbrook\, VIC\, 3975\, Australia
ATTACH;FMTTYPE=:
ORGANIZER;CN="Church":MAILTO:bigpond@lynbrook.com
END:VEVENT
BEGIN:VEVENT
DTSTART;TZID=UTC:20191222T100000
DTEND;TZID=UTC:20191222T120000
DTSTAMP:20210301T001934
CREATED:20191014T211239Z
LAST-MODIFIED:20191014T211241Z
UID:5225-1577008800-1577016000@upclynbrook.com.au
SUMMARY:Worship Service
DESCRIPTION:As we celebrate Father’s Day you are invited to join us as we relaunch our new service schedule.  \n
URL:http://upclynbrook.com.au/index.php/event/start-a-new-way-of-living-6-2-2-3-4-4-4/
LOCATION:Lynbrook\, 195 Hallam Road\, Lynbrook\, VIC\, 3975\, Australia
ATTACH;FMTTYPE=:
ORGANIZER;CN="Church":MAILTO:bigpond@lynbrook.com
END:VEVENT
END:VCALENDAR