BEGIN:VCALENDAR
VERSION:2.0
PRODID:-//United Pentecostal Church Lynbrook - ECPv4.9.14//NONSGML v1.0//EN
CALSCALE:GREGORIAN
METHOD:PUBLISH
X-WR-CALNAME:United Pentecostal Church Lynbrook
X-ORIGINAL-URL:http://upclynbrook.com.au
X-WR-CALDESC:Events for United Pentecostal Church Lynbrook
BEGIN:VTIMEZONE
TZID:UTC
BEGIN:STANDARD
TZOFFSETFROM:+0000
TZOFFSETTO:+0000
TZNAME:UTC
DTSTART:20190101T000000
END:STANDARD
END:VTIMEZONE
BEGIN:VEVENT
DTSTART;TZID=UTC:20190908T100000
DTEND;TZID=UTC:20190908T120000
DTSTAMP:20210301T010514
CREATED:20190905T015501Z
LAST-MODIFIED:20190907T072012Z
UID:5184-1567936800-1567944000@upclynbrook.com.au
SUMMARY:Worship Service
DESCRIPTION:
URL:http://upclynbrook.com.au/index.php/event/start-a-new-way-of-living-6-2-2-2/
LOCATION:Lynbrook\, 195 Hallam Road\, Lynbrook\, VIC\, 3975\, Australia
ATTACH;FMTTYPE=:
END:VEVENT
END:VCALENDAR