BEGIN:VCALENDAR
VERSION:2.0
PRODID:-//United Pentecostal Church Lynbrook - ECPv4.9.14//NONSGML v1.0//EN
CALSCALE:GREGORIAN
METHOD:PUBLISH
X-WR-CALNAME:United Pentecostal Church Lynbrook
X-ORIGINAL-URL:http://upclynbrook.com.au
X-WR-CALDESC:Events for United Pentecostal Church Lynbrook
BEGIN:VTIMEZONE
TZID:UTC
BEGIN:STANDARD
TZOFFSETFROM:+0000
TZOFFSETTO:+0000
TZNAME:UTC
DTSTART:20190101T000000
END:STANDARD
END:VTIMEZONE
BEGIN:VEVENT
DTSTART;TZID=UTC:20190904T190000
DTEND;TZID=UTC:20190904T200000
DTSTAMP:20210301T010454
CREATED:20190830T065256Z
LAST-MODIFIED:20190830T065304Z
UID:5158-1567623600-1567627200@upclynbrook.com.au
SUMMARY:Prayer Meeting
DESCRIPTION:\n\n\n \n\n\n\n\n\n\n\n\n\n\n
URL:http://upclynbrook.com.au/index.php/event/prayer-meeting/
END:VEVENT
END:VCALENDAR