BEGIN:VCALENDAR
VERSION:2.0
PRODID:-//United Pentecostal Church Lynbrook - ECPv4.9.14//NONSGML v1.0//EN
CALSCALE:GREGORIAN
METHOD:PUBLISH
X-WR-CALNAME:United Pentecostal Church Lynbrook
X-ORIGINAL-URL:http://upclynbrook.com.au
X-WR-CALDESC:Events for United Pentecostal Church Lynbrook
BEGIN:VTIMEZONE
TZID:UTC
BEGIN:STANDARD
TZOFFSETFROM:+0000
TZOFFSETTO:+0000
TZNAME:UTC
DTSTART:20190101T000000
END:STANDARD
END:VTIMEZONE
BEGIN:VEVENT
DTSTART;TZID=UTC:20191004T190000
DTEND;TZID=UTC:20191004T210000
DTSTAMP:20210301T004204
CREATED:20190830T064121Z
LAST-MODIFIED:20190930T204425Z
UID:5146-1570215600-1570222800@upclynbrook.com.au
SUMMARY:AYM Team Fellowship Evening
DESCRIPTION:As we celebrate Father’s Day you are invited to join us as we relaunch our new service schedule.  \n
URL:http://upclynbrook.com.au/index.php/event/start-a-new-way-of-living-4/
LOCATION:Lynbrook\, 195 Hallam Road\, Lynbrook\, VIC\, 3975\, Australia
ATTACH;FMTTYPE=:
ORGANIZER;CN="Church":MAILTO:bigpond@lynbrook.com
END:VEVENT
END:VCALENDAR